BEGIN:VCALENDAR
VERSION:2.0
PRODID:-//Essence International School, Nagpur - ECPv6.15.20//NONSGML v1.0//EN
CALSCALE:GREGORIAN
METHOD:PUBLISH
X-ORIGINAL-URL:https://eisngp.in
X-WR-CALDESC:Events for Essence International School, Nagpur
REFRESH-INTERVAL;VALUE=DURATION:PT1H
X-Robots-Tag:noindex
X-PUBLISHED-TTL:PT1H
BEGIN:VTIMEZONE
TZID:Asia/Kolkata
BEGIN:STANDARD
TZOFFSETFROM:+0530
TZOFFSETTO:+0530
TZNAME:IST
DTSTART:20250101T000000
END:STANDARD
END:VTIMEZONE
BEGIN:VEVENT
DTSTART;VALUE=DATE:20260401
DTEND;VALUE=DATE:20260416
DTSTAMP:20260420T173256
CREATED:20251219T154239Z
LAST-MODIFIED:20251219T154239Z
UID:979-1775001600-1776297599@eisngp.in
SUMMARY:Term II - Classes 1st to 7th
DESCRIPTION:
URL:https://eisngp.in/event/term-ii-classes-1st-to-7th/
CATEGORIES:Examination
END:VEVENT
END:VCALENDAR