BEGIN:VCALENDAR
VERSION:2.0
PRODID:-//Essence International School, Nagpur - ECPv6.15.20//NONSGML v1.0//EN
CALSCALE:GREGORIAN
METHOD:PUBLISH
X-WR-CALNAME:Essence International School, Nagpur
X-ORIGINAL-URL:https://eisngp.in
X-WR-CALDESC:Events for Essence International School, Nagpur
REFRESH-INTERVAL;VALUE=DURATION:PT1H
X-Robots-Tag:noindex
X-PUBLISHED-TTL:PT1H
BEGIN:VTIMEZONE
TZID:Asia/Kolkata
BEGIN:STANDARD
TZOFFSETFROM:+0530
TZOFFSETTO:+0530
TZNAME:IST
DTSTART:20250101T000000
END:STANDARD
END:VTIMEZONE
BEGIN:VEVENT
DTSTART;VALUE=DATE:20260301
DTEND;VALUE=DATE:20260302
DTSTAMP:20260420T173733
CREATED:20251219T153712Z
LAST-MODIFIED:20251219T153712Z
UID:965-1772323200-1772409599@eisngp.in
SUMMARY:Art and Craft Inter house Competition
DESCRIPTION:
URL:https://eisngp.in/event/art-and-craft-inter-house-competition/
CATEGORIES:School Event
END:VEVENT
BEGIN:VEVENT
DTSTART;TZID=Asia/Kolkata:20260301T080000
DTEND;TZID=Asia/Kolkata:20260301T170000
DTSTAMP:20260420T173733
CREATED:20260305T050105Z
LAST-MODIFIED:20260305T061355Z
UID:1834-1772352000-1772384400@eisngp.in
SUMMARY:INTACH HERITAGE CLUB 2025 -2026 ANNUAL REPORT
DESCRIPTION:Essence International School (2)
URL:https://eisngp.in/event/intach-heritage-club-2025-2026-annual-report/
ATTACH;FMTTYPE=image/jpeg:https://eisngp.in/wp-content/uploads/2026/03/WhatsApp-Image-2026-03-05-at-7.16.04-AM-1.jpeg
END:VEVENT
BEGIN:VEVENT
DTSTART;VALUE=DATE:20260303
DTEND;VALUE=DATE:20260304
DTSTAMP:20260420T173733
CREATED:20251219T153740Z
LAST-MODIFIED:20251219T153740Z
UID:967-1772496000-1772582399@eisngp.in
SUMMARY:Holi
DESCRIPTION:
URL:https://eisngp.in/event/holi/
CATEGORIES:Holiday 2025
END:VEVENT
BEGIN:VEVENT
DTSTART;VALUE=DATE:20260309
DTEND;VALUE=DATE:20260321
DTSTAMP:20260420T173733
CREATED:20251219T153857Z
LAST-MODIFIED:20251219T153857Z
UID:969-1773014400-1774051199@eisngp.in
SUMMARY:Final Exam for Class 8th \,9th & 10th
DESCRIPTION:
URL:https://eisngp.in/event/final-exam-for-class-8th-9th-10th/
CATEGORIES:Examination
END:VEVENT
BEGIN:VEVENT
DTSTART;TZID=Asia/Kolkata:20260310T080000
DTEND;TZID=Asia/Kolkata:20260310T170000
DTSTAMP:20260420T173733
CREATED:20260404T102032Z
LAST-MODIFIED:20260404T102052Z
UID:1969-1773129600-1773162000@eisngp.in
SUMMARY:LIBRARY ACTIVITY 2026
DESCRIPTION:Word Search Puzzle Activity \nDate& : 10/3/2026 \, 11/3/2026\,  13 /3/ 2026 \nTopic  : Word Search Puzzle \nClass   : 2nd to  4th \nThe primary objective of a Word Search activity is to enhance pattern recognition and visual scanning skills. It serves to reinforce vocabulary familiarization\, improve spelling accuracy\, and develop the ability to find specific information. From  this activity  students learn  to Strengthens patience\, attention to detail\, and problem-solving skills. Its Acts as a stress-relieving\, calming activity that provides mental exercise.
URL:https://eisngp.in/event/library-activity-2026-4/
END:VEVENT
BEGIN:VEVENT
DTSTART;VALUE=DATE:20260319
DTEND;VALUE=DATE:20260320
DTSTAMP:20260420T173733
CREATED:20251219T153931Z
LAST-MODIFIED:20251219T153931Z
UID:971-1773878400-1773964799@eisngp.in
SUMMARY:Gudi Padwa
DESCRIPTION:
URL:https://eisngp.in/event/gudi-padwa/
CATEGORIES:Holiday 2025
END:VEVENT
BEGIN:VEVENT
DTSTART;TZID=Asia/Kolkata:20260323T080000
DTEND;TZID=Asia/Kolkata:20260323T170000
DTSTAMP:20260420T173733
CREATED:20260323T095523Z
LAST-MODIFIED:20260415T102140Z
UID:1979-1774252800-1774285200@eisngp.in
SUMMARY:SANTINIKETAN - SHARE YOUR TALENT ACTIVITY
DESCRIPTION:SANTINIKETAN – SHARE YOUR TALENT ACTIVITY\nCLASS 5\nWhere the mind is without fear and the head is held high…\nInspired by this timeless vision of Gurudev Rabindranath Tagore\, the Santiniketan concept of “Share Your Talent” was beautifully brought to life by the students of Class 5\, on 23rd March at our own Essence International School. This initiative\, conducted by Vandana Shaw\, teacher of English subject\, created a vibrant platform for peer-to-peer learning\, where students became both teachers and learners. \n \nThe young participants enthusiastically shared skills across diverse areas such as Yoga\, Origami\, Dance\, Song\, Chess\, Math tricks\, and EVS. The open air classroom transformed into dynamic spaces of collaboration\, curiosity\, and creativity- truly reflecting a Santiniketan spirit where education goes beyond textbooks. \n \nThis initiative strongly aligned with key aspects of Bloom’s Taxonomy. Students not only remembered and understood their skills but also applied them while teaching peers. They analyzed different methods of explaining concepts\, evaluated their own performance\, and ultimately created meaningful learning experiences for each other. \nThe impact was profound. It enhanced holistic development\, strengthened speaking skills\, and nurtured confidence among students. It also sparked genuine interest in learning and fostered a sense of responsibility and ownership. The school evolved into a hub for dialogue and resource exchange\, where knowledge flowed freely among peers. \nThe initiative was well appreciated by the directors Mr. Vijay Menon and Dr. Mrs. Hema Menon\, Quality Coordinator Mrs. Jayshri Sastri\, Principal Mrs. Beena Menon\, and Vice Principals Mrs. Arpana Wilson and Mrs. Shashiprabha Suryavanshi. \nAs Sudha Murthy appropriately quoted\, ” Knowledge shared is knowledge multiplied ”\, in the same way this activity not only enhanced the children’s knowledge but multiplied it too. This initiative stood as a testament to that belief- empowering young minds to grow together\, fearlessly and meaningfully. \n \n \n  \n \n \n \n \n \n  \n \n \n  \n \n  \n  \n  \n 
URL:https://eisngp.in/event/1979/
END:VEVENT
BEGIN:VEVENT
DTSTART;VALUE=DATE:20260326
DTEND;VALUE=DATE:20260327
DTSTAMP:20260420T173733
CREATED:20251219T154021Z
LAST-MODIFIED:20251219T154021Z
UID:973-1774483200-1774569599@eisngp.in
SUMMARY:Ram Navami
DESCRIPTION:
URL:https://eisngp.in/event/ram-navami/
CATEGORIES:Holiday 2025
END:VEVENT
BEGIN:VEVENT
DTSTART;VALUE=DATE:20260328
DTEND;VALUE=DATE:20260329
DTSTAMP:20260420T173733
CREATED:20251219T154058Z
LAST-MODIFIED:20251219T154058Z
UID:975-1774656000-1774742399@eisngp.in
SUMMARY:PTM (Final Exam)
DESCRIPTION:
URL:https://eisngp.in/event/ptm-final-exam/
CATEGORIES:PTM
END:VEVENT
END:VCALENDAR